BEGIN:VCALENDAR
PRODID:-//kirchenweb.ch gmbh//veranstaltungsausgabe v2.0//DE
VERSION:2.0
METHOD:PUBLISH
BEGIN:VEVENT
DTSTART:20260825T150000Z
DTEND:20260825T160000Z
LOCATION:Spycher bei der Kirche\, Kirchweg 7\, 3272 Walperswil
TRANSP:OPAQUE
SEQUENCE:0
UID:91498-veranstaltung@kirchenregion-aarberg.ch
DTSTAMP:20260416T084516Z
DESCRIPTION:Kontakt: Ursula Probst-Nenniger\n\nWeitere Infos:
  https://www.kirchenregion-aarberg.ch/veranstaltung/91498
SUMMARY:Besuchsdienst Walperswil-Bühl
PRIORITY:5
X-MICROSOFT-CDO-IMPORTANCE:1
CLASS:PUBLIC
END:VEVENT
END:VCALENDAR
