BEGIN:VCALENDAR
PRODID:-//kirchenweb.ch gmbh//veranstaltungsausgabe v2.0//DE
VERSION:2.0
METHOD:PUBLISH
BEGIN:VEVENT
DTSTART;VALUE=DATE:20251201
DTEND;VALUE=DATE:20251202
LOCATION:Restaurant Traube Walperswil\, \,  Walperswil
TRANSP:OPAQUE
SEQUENCE:0
UID:89528-veranstaltung@kirchenregion-aarberg.ch
DTSTAMP:20260108T093728Z
DESCRIPTION:Kontakt: 076 249 05 56\n032 505 36 73\n\nWeitere Infos:
  https://www.kirchenregion-aarberg.ch/veranstaltung/89528
SUMMARY:Mittagstisch Walperswil-Bühl
PRIORITY:5
X-MICROSOFT-CDO-IMPORTANCE:1
CLASS:PUBLIC
END:VEVENT
END:VCALENDAR
