BEGIN:VCALENDAR
PRODID:-//kirchenweb.ch gmbh//veranstaltungsausgabe v2.0//DE
VERSION:2.0
METHOD:PUBLISH
BEGIN:VEVENT
DTSTART:20260606T173000Z
DTEND:20260606T214500Z
LOCATION:Pfarrhof\, Kirchweg 7\, 3272 Walperswil
TRANSP:OPAQUE
SEQUENCE:0
UID:89504-veranstaltung@kirchenregion-aarberg.ch
DTSTAMP:20260421T193610Z
DESCRIPTION:Ab 19.30 Uhr Paella Valenciana (ohne Meeresfrüchte) \, ab.
  ca. 22.00 Uhr Filmbeginn. Ort: im Pfarrhof\, bei schlechtem Wetter in der
  Kirche \n\nDer Film: «Mein Name ist Eugen» von Michael Steiner\,
  erschienen 2005. \nDie zwölfjährigen Lausbuben Eugen und Wrigley leben
  in den 60er-Jahren in Bern und hecken einen Streich nach dem anderen aus
  – sehr zum Ärger der Erwachsenen. Als ihnen schliesslich
  Pfadfinderlager-Verbot und Internat drohen\, beginnt ein unvergessliches
  Abenteuer.\n\nDer Film basiert auf dem legendären Jugendroman von Klaus
  Schädelin\, der vor über 70 Jahren erschienen ist.\nEr ist humorvoll\,
  spannend und sehr familienfreundlich und geprägt von Nostalgie\,
  Freundschaft und Schweizer Lebensart.\nEin Klassiker für Jung und Alt.\n
 \nLaufzeit des Films: 1 Std. und 40 Min. Altersfreigabe: FSK 0\n \n\n
 \nKontakt: sekretariat.w-b@kirche-walperswil-buehl.ch\n\nWeitere Infos:
  https://www.kirchenregion-aarberg.ch/veranstaltung/89504
SUMMARY:Open Air Kino
PRIORITY:5
X-MICROSOFT-CDO-IMPORTANCE:1
CLASS:PUBLIC
END:VEVENT
END:VCALENDAR
