BEGIN:VCALENDAR
PRODID:-//kirchenweb.ch gmbh//veranstaltungsausgabe v2.0//DE
VERSION:2.0
METHOD:PUBLISH
BEGIN:VEVENT
DTSTART:20260813T173000Z
DTEND:20260813T183000Z
LOCATION:Schürstube\, Kirchgemeindesaal\, Kirchweg 5b\, 3283 Kallnach
TRANSP:OPAQUE
SEQUENCE:0
UID:89086-veranstaltung@kirchenregion-aarberg.ch
DTSTAMP:20251218T162322Z
DESCRIPTION:Singen in ungezwungener Atmosphäre mit Monika Ebner.\n
 \nKontakt\nKirchgemeinderätin Monika Ebner-Schwab\, Mühlegasse 2\, 3283
  Kallnach\, monika.ebner@kirchekallnach.ch\, 079 420 51 10\n\n\n\n
 \nKontakt: info.k@kirchekallnach.ch\n\nWeitere Infos:
  https://www.kirchenregion-aarberg.ch/veranstaltung/89086
SUMMARY:Singen am ne Summerabe
PRIORITY:5
X-MICROSOFT-CDO-IMPORTANCE:1
CLASS:PUBLIC
END:VEVENT
END:VCALENDAR
