BEGIN:VCALENDAR
PRODID:-//kirchenweb.ch gmbh//veranstaltungsausgabe v2.0//DE
VERSION:2.0
METHOD:PUBLISH
BEGIN:VEVENT
DTSTART:20261224T210000Z
DTEND:20261224T220000Z
LOCATION:Kirche Bargen\, Kirchrain 9\, 3282 Bargen
TRANSP:OPAQUE
SEQUENCE:0
UID:88549-veranstaltung@kirchenregion-aarberg.ch
DTSTAMP:20251210T172629Z
DESCRIPTION:Pfarrer: Jürg Kägi\nMusik: Organistin Beatrice Geiser\,
  Kirchenchor Kallnach\nKollekte: Pfadfinder trotz allem\, La Neuville\n
 \nFahrdienste für Gottesdienste:\nBargen\, 032 392 31 60
 \nWalperswil-Bühl\, 032 396 11 35\n\n\n\n\nKontakt:
  info.k@kirchekallnach.ch\n\nWeitere Infos:
  https://www.kirchenregion-aarberg.ch/veranstaltung/88549
SUMMARY:Christnachtfeier
PRIORITY:5
X-MICROSOFT-CDO-IMPORTANCE:1
CLASS:PUBLIC
END:VEVENT
END:VCALENDAR
