BEGIN:VCALENDAR
PRODID:-//kirchenweb.ch gmbh//veranstaltungsausgabe v2.0//DE
VERSION:2.0
METHOD:PUBLISH
BEGIN:VEVENT
DTSTART:20261220T090000Z
DTEND:20261220T100000Z
LOCATION:Kirche Kallnach\, Kirchweg 7\, 3283 Kallnach
TRANSP:OPAQUE
SEQUENCE:0
UID:88546-veranstaltung@kirchenregion-aarberg.ch
DTSTAMP:20260410T075254Z
DESCRIPTION:Pfarrer: Emanuil Dragnev\nOrganistin: Mischa Matter\nLektor:
  Fritz Mori\nKollekte: Gassenarbeit Biel\n\nAnschliessend Kirchenkaffee\n
 \nFahrdienste für Gottesdienste:\nBargen\, 032 392 31 60
 \nWalperswil-Bühl\, 032 396 11 35\n\n\n\n\n\nKontakt:
  info.k@kirchekallnach.ch\n\nWeitere Infos:
  https://www.kirchenregion-aarberg.ch/veranstaltung/88546
SUMMARY:Gottesdienst zum 4. Advent
PRIORITY:5
X-MICROSOFT-CDO-IMPORTANCE:1
CLASS:PUBLIC
END:VEVENT
END:VCALENDAR
