BEGIN:VCALENDAR
PRODID:-//kirchenweb.ch gmbh//veranstaltungsausgabe v2.0//DE
VERSION:2.0
METHOD:PUBLISH
BEGIN:VEVENT
DTSTART:20261201T180000Z
DTEND:20261201T190000Z
LOCATION:Kirche Bargen\, Kirchrain 9\, 3282 Bargen
TRANSP:OPAQUE
SEQUENCE:0
UID:88539-veranstaltung@kirchenregion-aarberg.ch
DTSTAMP:20251210T170402Z
DESCRIPTION:Am 1. Dezember öffnet die Kirchgemeinde Bargen das erste
  Adventstürchen. Kommen Sie vorbei und geniessen Sie die Adventsstimmung
  rund um und in der Kirche.\n\nDer Kirchgemeinderat freut sich auf Ihren
  Besuch.\n\n\n\n\nKontakt: info.kg@kirche-bargen.ch\n\nWeitere Infos:
  https://www.kirchenregion-aarberg.ch/veranstaltung/88539
SUMMARY:Adventsfenster in der Kirche Bargen
PRIORITY:5
X-MICROSOFT-CDO-IMPORTANCE:1
CLASS:PUBLIC
END:VEVENT
END:VCALENDAR
