BEGIN:VCALENDAR
PRODID:-//kirchenweb.ch gmbh//veranstaltungsausgabe v2.0//DE
VERSION:2.0
METHOD:PUBLISH
BEGIN:VEVENT
DTSTART:20261115T090000Z
DTEND:20261115T100000Z
LOCATION:Kirche Bargen\, Kirchrain 9\, 3282 Bargen
TRANSP:OPAQUE
SEQUENCE:0
UID:88528-veranstaltung@kirchenregion-aarberg.ch
DTSTAMP:20260210T095701Z
DESCRIPTION:Pfarrer: Jürg Kägi\nOrganistin: Susanne Hügli\nKollekte:
  Beratungsstelle Ehe-Familie Biel\n\nFahrdienste für Gottesdienste:
 \nBargen\, 032 392 31 60\nWalperswil-Bühl\, 032 396 11 35\n\n\n\n
 \nKontakt: info.k@kirchekallnach.ch\n\nWeitere Infos:
  https://www.kirchenregion-aarberg.ch/veranstaltung/88528
SUMMARY:Gottesdienst
PRIORITY:5
X-MICROSOFT-CDO-IMPORTANCE:1
CLASS:PUBLIC
END:VEVENT
END:VCALENDAR
