BEGIN:VCALENDAR
PRODID:-//kirchenweb.ch gmbh//veranstaltungsausgabe v2.0//DE
VERSION:2.0
METHOD:PUBLISH
BEGIN:VEVENT
DTSTART:20261025T090000Z
DTEND:20261025T100000Z
LOCATION:Kirche Walperswil\, Kirchenweg 5\, 3272 Walperswil
TRANSP:OPAQUE
SEQUENCE:0
UID:88522-veranstaltung@kirchenregion-aarberg.ch
DTSTAMP:20260410T075006Z
DESCRIPTION:Pfarrer: Emanuil Dragnev\nOrganistin Mischa Matter\,
  Jodlerklub Schneeglöggli\nKollekte: Tischlein deck dich\n\nFahrdienste
  für Gottesdienste:\nBargen\, 032 392 31 60\nWalperswil-Bühl\, 032 396
  11 35\n\n\n\n\nKontakt: info.k@kirchekallnach.ch\n\nWeitere Infos:
  https://www.kirchenregion-aarberg.ch/veranstaltung/88522
SUMMARY:Familiengottesdienst zum Erntedank
PRIORITY:5
X-MICROSOFT-CDO-IMPORTANCE:1
CLASS:PUBLIC
END:VEVENT
END:VCALENDAR
