BEGIN:VCALENDAR
PRODID:-//kirchenweb.ch gmbh//veranstaltungsausgabe v2.0//DE
VERSION:2.0
METHOD:PUBLISH
BEGIN:VEVENT
DTSTART:20261011T080000Z
DTEND:20261011T090000Z
LOCATION:Kirche Bargen\, Kirchrain 9\, 3282 Bargen
TRANSP:OPAQUE
SEQUENCE:0
UID:88518-veranstaltung@kirchenregion-aarberg.ch
DTSTAMP:20260410T074923Z
DESCRIPTION:Pfarrer: Emanuil Dragnev\nMusik: Organistin Käthi Werder\,
  Schützenchörli Aarberg\nKollekte: Allani\nAnschliessend Apéro\n
 \nFahrdienste für Gottesdienste:\nBargen\, 032 392 31 60
 \nWalperswil-Bühl\, 032 396 11 35\n\n\n\n\nKontakt:
  info.k@kirchekallnach.ch\n\nWeitere Infos:
  https://www.kirchenregion-aarberg.ch/veranstaltung/88518
SUMMARY:Gottesdienst zum Erntedank
PRIORITY:5
X-MICROSOFT-CDO-IMPORTANCE:1
CLASS:PUBLIC
END:VEVENT
END:VCALENDAR
