BEGIN:VCALENDAR
PRODID:-//kirchenweb.ch gmbh//veranstaltungsausgabe v2.0//DE
VERSION:2.0
METHOD:PUBLISH
BEGIN:VEVENT
DTSTART:20260927T080000Z
DTEND:20260927T090000Z
LOCATION:Kirche Kallnach\, Kirchweg 7\, 3283 Kallnach
TRANSP:OPAQUE
SEQUENCE:0
UID:88516-veranstaltung@kirchenregion-aarberg.ch
DTSTAMP:20260410T075436Z
DESCRIPTION:Wir heissen Pfarrer Emanuil Dragnev in diesem Gottesdienst
  herzlich willkommen. \nOrganistin: Lilian von Rohr\nLektorin: Fränzi
  Mori\nKollekte: Gassenarbeit Biel\n\nAnschliessend Apéro\n\nFahrdienste
  für Gottesdienste:\nBargen\, 032 392 31 60\nWalperswil-Bühl\, 032 396
  11 35\n\n\n\n\n\nKontakt: info.k@kirchekallnach.ch\n\nWeitere Infos:
  https://www.kirchenregion-aarberg.ch/veranstaltung/88516
SUMMARY:Willkommensgottesdienst
PRIORITY:5
X-MICROSOFT-CDO-IMPORTANCE:1
CLASS:PUBLIC
END:VEVENT
END:VCALENDAR
