BEGIN:VCALENDAR
PRODID:-//kirchenweb.ch gmbh//veranstaltungsausgabe v2.0//DE
VERSION:2.0
METHOD:PUBLISH
BEGIN:VEVENT
DTSTART:20260913T080000Z
DTEND:20260913T090000Z
LOCATION:Kirche Kallnach\, Kirchweg 7\, 3283 Kallnach
TRANSP:OPAQUE
SEQUENCE:0
UID:88513-veranstaltung@kirchenregion-aarberg.ch
DTSTAMP:20251210T161335Z
DESCRIPTION:Prämierung der besten Bilder aus dem Fotowettbewerb der
  KIRCHE32 "Wo ist KIRCHE32 drin". \n\nPfarrer: Jürg Kägi\nMusik: Band ??
 \nLektorin: Monika Ebner\nKollekte: Gassenarbeit Biel\n\nAnschliessend
  Apéro und Besichtigung der Bilder\n\nFahrdienste:\nBargen\, 032 392 31
  60\nWalperswil-Bühl\, 032 396 11 35\n\n\n\n\n\nKontakt:
  info.k@kirchekallnach.ch\n\nWeitere Infos:
  https://www.kirchenregion-aarberg.ch/veranstaltung/88513
SUMMARY:Gottesdienst mit Prämierung Fotowettbewerb
PRIORITY:5
X-MICROSOFT-CDO-IMPORTANCE:1
CLASS:PUBLIC
END:VEVENT
END:VCALENDAR
