BEGIN:VCALENDAR
PRODID:-//kirchenweb.ch gmbh//veranstaltungsausgabe v2.0//DE
VERSION:2.0
METHOD:PUBLISH
BEGIN:VEVENT
DTSTART:20260906T080000Z
DTEND:20260906T090000Z
LOCATION:Burgerschopf Bühl\, \, 3274 Bühl
TRANSP:OPAQUE
SEQUENCE:0
UID:88511-veranstaltung@kirchenregion-aarberg.ch
DTSTAMP:20251210T160437Z
DESCRIPTION:Die Kirchgemeinde lädt herzlich ein zum Familiengottesdienst
  im Wald. Im Anschluss wird ein einfaches Zmittag vom Grill angeboten. \n
 \nPfarrer: Jürg Kägi\nMusik: Jugenmusik Walperswil\nKollekte:
  Jugendmusik Walperswil\n\n\n\n\n\nKontakt: info.k@kirchekallnach.ch\n
 \nWeitere Infos: https://www.kirchenregion-aarberg.ch/veranstaltung/88511
SUMMARY:Familien-Waldgottesdienst
PRIORITY:5
X-MICROSOFT-CDO-IMPORTANCE:1
CLASS:PUBLIC
END:VEVENT
END:VCALENDAR
