BEGIN:VCALENDAR
PRODID:-//kirchenweb.ch gmbh//veranstaltungsausgabe v2.0//DE
VERSION:2.0
METHOD:PUBLISH
BEGIN:VEVENT
DTSTART:20260830T080000Z
DTEND:20260830T090000Z
LOCATION:Kirche Bargen\, Kirchrain 9\, 3282 Bargen
TRANSP:OPAQUE
SEQUENCE:0
UID:88510-veranstaltung@kirchenregion-aarberg.ch
DTSTAMP:20260410T074038Z
DESCRIPTION:Im Gottesdienst mit Abendmahl begrüssen wir ganz herzlich
  Pfarrer Emanuil Dragnev.\n\nPfarrer: Emanuil Dragnev\nOrganistin:
  Beatrice Geiser\nKollekte: Synodal Bibelsonntag\n\nFahrdienste für
  Gottesdienste:\nBargen\, 032 392 31 60\nWalperswil-Bühl\, 032 396 11 35
 \n\n\n\n\nKontakt: info.k@kirchekallnach.ch\n\nWeitere Infos:
  https://www.kirchenregion-aarberg.ch/veranstaltung/88510
SUMMARY:Willkommensgottesdienst
PRIORITY:5
X-MICROSOFT-CDO-IMPORTANCE:1
CLASS:PUBLIC
END:VEVENT
END:VCALENDAR
