BEGIN:VCALENDAR
PRODID:-//kirchenweb.ch gmbh//veranstaltungsausgabe v2.0//DE
VERSION:2.0
METHOD:PUBLISH
BEGIN:VEVENT
DTSTART:20260816T080000Z
DTEND:20260816T090000Z
LOCATION:Bargenschanze\, bei schlechtem Wetter in der Mehrzweckhalle\,
  Bargenwald\, 3282 Bargen
TRANSP:OPAQUE
SEQUENCE:0
UID:88507-veranstaltung@kirchenregion-aarberg.ch
DTSTAMP:20251210T154605Z
DESCRIPTION:Die Kirchgemeinde lädt herzlich ein zum Gottesdienst im Wald.
  Im Anschluss Hamme und Kartoffelsalat. Während dem Gottesdienst eine
  lebendige Kinderhüeti angeboten.\n\nPfarrer: Dominik von Allmen\nMusik: 
 \nKollekte: Tischlein deck dich\, Lyss\n\n\n\n\n\nKontakt:
  info.k@kirchekallnach.ch\n\nWeitere Infos:
  https://www.kirchenregion-aarberg.ch/veranstaltung/88507
SUMMARY:Waldgottesdienst auf der Bargenschanze
PRIORITY:5
X-MICROSOFT-CDO-IMPORTANCE:1
CLASS:PUBLIC
END:VEVENT
END:VCALENDAR
