BEGIN:VCALENDAR
PRODID:-//kirchenweb.ch gmbh//veranstaltungsausgabe v2.0//DE
VERSION:2.0
METHOD:PUBLISH
BEGIN:VEVENT
DTSTART:20260802T080000Z
DTEND:20260802T090000Z
LOCATION:Kirche Kallnach\, Kirchweg 7\, 3283 Kallnach
TRANSP:OPAQUE
SEQUENCE:0
UID:88504-veranstaltung@kirchenregion-aarberg.ch
DTSTAMP:20251210T152932Z
DESCRIPTION:Pfarrer: Jürg Kägi\nOrganistin: Mischa Matter\nLektor: Fritz
  Mori\nKollekte: Mission21\n\nAnschliessend Kirchenkaffee\n\nFahrdienste
  für Gottesdienste:\nBargen\, 032 392 31 60\nWalperswil-Bühl\, 032 396
  11 35\n\n\n\n\n\nKontakt: info.k@kirchekallnach.ch\n\nWeitere Infos:
  https://www.kirchenregion-aarberg.ch/veranstaltung/88504
SUMMARY:Gottesdienst
PRIORITY:5
X-MICROSOFT-CDO-IMPORTANCE:1
CLASS:PUBLIC
END:VEVENT
END:VCALENDAR
