BEGIN:VCALENDAR
PRODID:-//kirchenweb.ch gmbh//veranstaltungsausgabe v2.0//DE
VERSION:2.0
METHOD:PUBLISH
BEGIN:VEVENT
DTSTART:20260405T080000Z
DTEND:20260405T090000Z
LOCATION:Kirche Kallnach\, Kirchweg 7\, 3283 Kallnach
TRANSP:OPAQUE
SEQUENCE:0
UID:88121-veranstaltung@kirchenregion-aarberg.ch
DTSTAMP:20260310T084615Z
DESCRIPTION:Pfarrer: Ueli Bukies\nMusik: Organistin Mischa Matter. Es
  singt der Kirchenchor Kallnach\nLektor: Christian Schwab\nKollekte:
  Mission21\n\nAnschliessend Kirchenkaffee\n\n\n\n\n\nKontakt:
  info.k@kirchekallnach.ch\n\nWeitere Infos:
  https://www.kirchenregion-aarberg.ch/veranstaltung/88121
SUMMARY:Ostergottesdienst mit Abendmahl
PRIORITY:5
X-MICROSOFT-CDO-IMPORTANCE:1
CLASS:PUBLIC
END:VEVENT
END:VCALENDAR
