BEGIN:VCALENDAR
PRODID:-//kirchenweb.ch gmbh//veranstaltungsausgabe v2.0//DE
VERSION:2.0
METHOD:PUBLISH
BEGIN:VEVENT
DTSTART:20261206T100000Z
DTEND:20261206T110000Z
LOCATION:Reformierte Kirche\, Kirchweg 7\, 3283 Kallnach
TRANSP:OPAQUE
SEQUENCE:0
UID:88051-veranstaltung@kirchenregion-aarberg.ch
DTSTAMP:20251203T201253Z
DESCRIPTION:Im Anschluss an den Gottesdienst. Gottesdienstbeginn: 10.00
  Uhr. Alle Mitglieder sind herzlich eingeladen Kirche mitzugestalten\n
 \nKontakt\nFritz Mori\, Kirchgemeindepräsident\n076 587 38 11\,
  fritz.mori@kirchekallnach.ch\n\nKontakt: info.k@kirchekallnach.ch\n
 \nWeitere Infos: https://www.kirchenregion-aarberg.ch/veranstaltung/88051
SUMMARY:Kirchgemeindeversammlung Kallnach
PRIORITY:5
X-MICROSOFT-CDO-IMPORTANCE:1
CLASS:PUBLIC
END:VEVENT
END:VCALENDAR
