BEGIN:VCALENDAR
PRODID:-//kirchenweb.ch gmbh//veranstaltungsausgabe v2.0//DE
VERSION:2.0
METHOD:PUBLISH
BEGIN:VEVENT
DTSTART:20251211T141500Z
DTEND:20251211T160000Z
LOCATION:Spycher bei der Kirche\, Kirchweg 7\, 3272 Walperswil
TRANSP:OPAQUE
SEQUENCE:0
UID:84237-veranstaltung@kirchenregion-aarberg.ch
DTSTAMP:20250618T120101Z
DESCRIPTION:KUW Unterricht mit Karin Wälchli\, Katechetin\, mit
  gemeinsamem z'Vieri\n\nKontakt: Karin Wälchli\, Katechetin\n\nWeitere
  Infos: https://www.kirchenregion-aarberg.ch/veranstaltung/84237
SUMMARY:KUW 4. Klasse Walperswil-Bühl
PRIORITY:5
X-MICROSOFT-CDO-IMPORTANCE:1
CLASS:PUBLIC
END:VEVENT
END:VCALENDAR
