BEGIN:VCALENDAR
PRODID:-//kirchenweb.ch gmbh//veranstaltungsausgabe v2.0//DE
VERSION:2.0
METHOD:PUBLISH
BEGIN:VEVENT
DTSTART:20250821T170000Z
DTEND:20250821T180000Z
LOCATION:Spycher bei der Kirche\, Kirchweg 7\, 3272 Walperswil
TRANSP:OPAQUE
SEQUENCE:0
UID:84219-veranstaltung@kirchenregion-aarberg.ch
DTSTAMP:20250618T114822Z
DESCRIPTION:KUW 2 Elterninformation mit Karin Wälchli\, Katechetin\n
 \nKontakt: Karin Wälchli\, Katechetin\n\nWeitere Infos:
  https://www.kirchenregion-aarberg.ch/veranstaltung/84219
SUMMARY:KUW 2. Klasse Elterninformation Walperswil-Bühl
PRIORITY:5
X-MICROSOFT-CDO-IMPORTANCE:1
CLASS:PUBLIC
END:VEVENT
END:VCALENDAR
