BEGIN:VCALENDAR
PRODID:-//kirchenweb.ch gmbh//veranstaltungsausgabe v2.0//DE
VERSION:2.0
METHOD:PUBLISH
BEGIN:VEVENT
DTSTART:20261121T190000Z
DTEND:20261121T200000Z
LOCATION:Kirche\, Kirchweg 7\, 3272 Walperswil
TRANSP:OPAQUE
SEQUENCE:0
UID:83811-veranstaltung@kirchenregion-aarberg.ch
DTSTAMP:20260319T125043Z
DESCRIPTION:Kontakt: Urs Hänni\n\nChristina Zieba\n\nWeitere Infos:
  https://www.kirchenregion-aarberg.ch/veranstaltung/83811
SUMMARY:Konzert Lakeland Gospel Chor\, Ins
PRIORITY:5
X-MICROSOFT-CDO-IMPORTANCE:1
CLASS:PUBLIC
END:VEVENT
END:VCALENDAR
