BEGIN:VCALENDAR
PRODID:-//kirchenweb.ch gmbh//veranstaltungsausgabe v2.0//DE
VERSION:2.0
METHOD:PUBLISH
BEGIN:VEVENT
DTSTART:20251211T130000Z
DTEND:20251211T140000Z
LOCATION:Kirche Kallnach\, Kirchweg 5b\, 3283 Kallnach
TRANSP:OPAQUE
SEQUENCE:0
UID:82776-veranstaltung@kirchenregion-aarberg.ch
DTSTAMP:20250721T135616Z
DESCRIPTION:Die Kinder der Schule Kallnach führen ein Weihnachtsspiel in
  der Kirche auf. Anschliessend Adventshöck für Senioren in der
  Schürstube.\n\nKontakt\nPfarrer Jürg Kägi\, Kirchrain 7\, 3282
  Bargen\, juerg.kaegi@kirche32.ch\, 077 231 25 98\nKirchgemeinderätin
  Monika Ebner-Schwab\, Mühlegasse 2\, 3283 Kallnach\,
  monika.ebner@kirchekallnach.ch\, 079 420 51 10\n\n\n\nKontakt:
  info.k@kirchekallnach.ch\n\nWeitere Infos:
  https://www.kirchenregion-aarberg.ch/veranstaltung/82776
SUMMARY:Seniorenweihnachtsspiel Schule Kallnach
PRIORITY:5
X-MICROSOFT-CDO-IMPORTANCE:1
CLASS:PUBLIC
END:VEVENT
END:VCALENDAR
