BEGIN:VCALENDAR
PRODID:-//kirchenweb.ch gmbh//veranstaltungsausgabe v2.0//DE
VERSION:2.0
METHOD:PUBLISH
BEGIN:VEVENT
DTSTART:20251231T160000Z
DTEND:20251231T170000Z
LOCATION:Kirche Walperswil\, Kirchenweg 5\, 3272 Walperswil
TRANSP:OPAQUE
SEQUENCE:0
UID:81673-veranstaltung@kirchenregion-aarberg.ch
DTSTAMP:20250303T095009Z
DESCRIPTION:Andacht. Anschliessend stossen wir auf das vergangene und das
  kommende Jahr an.\n\nPfarrer: Dominik von Allmen\nOrganistin: Lilian von
  Rohr\nKollekte: Gassenküche Vagos\nFahrdienst von Bühl: 032 396 11 35\n
 \n\n\n\nKontakt: info.k@kirchekallnach.ch\n\nWeitere Infos:
  https://www.kirchenregion-aarberg.ch/veranstaltung/81673
SUMMARY:Altjahresandacht
PRIORITY:5
X-MICROSOFT-CDO-IMPORTANCE:1
CLASS:PUBLIC
END:VEVENT
END:VCALENDAR
