BEGIN:VCALENDAR
PRODID:-//kirchenweb.ch gmbh//veranstaltungsausgabe v2.0//DE
VERSION:2.0
METHOD:PUBLISH
BEGIN:VEVENT
DTSTART:20250824T080000Z
DTEND:20250824T090000Z
LOCATION:Festzelt\, Grien Niederried\, 3283 Niederried b. Kallnach
TRANSP:OPAQUE
SEQUENCE:0
UID:80479-veranstaltung@kirchenregion-aarberg.ch
DTSTAMP:20250819T052902Z
DESCRIPTION:Pfarrer Jürg Kägi und der Kirchgemeinderat laden dich
  herzlich zum Gottesdienst an der Aare\, mit Taufen\, ein. Das
  Akkordeon-Orchester Aarberg-Kallnach umrahmt den Gottesdienst
  musikalisch. Kollekte: Dargebotene Hand\n\nWährend dem Gottesdienst wird
  eine Kinderhüti angeboten. Das Kinderhüteteam freut sich auf euch!\n
 \nIm Anschluss an den Gottesdienst offeriert die Kirchgemeinde allen
  Besuchern ein Zmittag vom Grill.\n\nWir freuen uns auf euren Besuch!\n\n
 \n\n\nKontakt: info.k@kirchekallnach.ch\n\nWeitere Infos:
  https://www.kirchenregion-aarberg.ch/veranstaltung/80479
SUMMARY:Aaregottesdienst
PRIORITY:5
X-MICROSOFT-CDO-IMPORTANCE:1
CLASS:PUBLIC
END:VEVENT
END:VCALENDAR
