BEGIN:VCALENDAR
PRODID:-//kirchenweb.ch gmbh//veranstaltungsausgabe v2.0//DE
VERSION:2.0
METHOD:PUBLISH
BEGIN:VEVENT
DTSTART:20250621T150000Z
DTEND:20250621T160000Z
LOCATION:Kirchhof\, Kirchweg 7\, 3272 Walperswil
TRANSP:OPAQUE
SEQUENCE:0
UID:80184-veranstaltung@kirchenregion-aarberg.ch
DTSTAMP:20250615T131503Z
DESCRIPTION:Kontakt: sekretariat.w-b@kirche-walperswil-buehl.ch\n\nWeitere
  Infos: https://www.kirchenregion-aarberg.ch/veranstaltung/80184
SUMMARY:Konzert Famoos
PRIORITY:5
X-MICROSOFT-CDO-IMPORTANCE:1
CLASS:PUBLIC
END:VEVENT
END:VCALENDAR
