BEGIN:VCALENDAR
PRODID:-//kirchenweb.ch gmbh//veranstaltungsausgabe v2.0//DE
VERSION:2.0
METHOD:PUBLISH
BEGIN:VEVENT
DTSTART:20240402T120000Z
DTEND:20240402T130000Z
LOCATION:Kirchgemeindesaal\, Kirchrain 5a\, 3282 Bargen
TRANSP:OPAQUE
SEQUENCE:0
UID:76107-veranstaltung@kirchenregion-aarberg.ch
DTSTAMP:20240426T080044Z
DESCRIPTION:Der Kirchgemeindesaal in der Schule Bargen ist für eine
  Abdankung der Kirchgemeinde Bargen reserviert.\n\nBitte wenden Sie sich
  bei Fragen an den Pfarrer der Kirchgemeinde.\n\nPfarrer 10% Simon
  Taverna\, Stadtplatz 43\, 3270 Aarberg\,
  simon.taverna@kirche-aarberg.ch\, 079 875 71 61\n\n\n\n\n\nKontakt:
  info.kg@kirche-bargen.ch\n\nWeitere Infos:
  https://www.kirchenregion-aarberg.ch/veranstaltung/76107
SUMMARY:Interne Veranstaltung - Abdankung
PRIORITY:5
X-MICROSOFT-CDO-IMPORTANCE:1
CLASS:PUBLIC
END:VEVENT
END:VCALENDAR
