BEGIN:VCALENDAR
PRODID:-//kirchenweb.ch gmbh//veranstaltungsausgabe v2.0//DE
VERSION:2.0
METHOD:PUBLISH
BEGIN:VEVENT
DTSTART:20240531T170000Z
DTEND:20240531T172000Z
LOCATION:Kirche\, Kirchrain 9\, 3282 Bargen
TRANSP:OPAQUE
SEQUENCE:0
UID:75723-veranstaltung@kirchenregion-aarberg.ch
DTSTAMP:20240319T101811Z
DESCRIPTION:Das Abendgebet am Freitag hilft\, die Arbeitswoche bewusst und
  gesegnet abzuschliessen. Es sind 20 Minuten\, die Raum geben für
  gemeinsames Singen und Beten und für das betrachtende Verweilen in der
  Stille.\n\nKontakt: info.kg@kirche-bargen.ch\n\nWeitere Infos:
  https://www.kirchenregion-aarberg.ch/veranstaltung/75723
SUMMARY:Abendgebet
PRIORITY:5
X-MICROSOFT-CDO-IMPORTANCE:1
CLASS:PUBLIC
END:VEVENT
END:VCALENDAR
