BEGIN:VCALENDAR
PRODID:-//kirchenweb.ch gmbh//veranstaltungsausgabe v2.0//DE
VERSION:2.0
METHOD:PUBLISH
BEGIN:VEVENT
DTSTART:20240402T094500Z
DTEND:20240402T104500Z
LOCATION:Restaurant Schlüssel\, Neuenburgstrasse\, 3282 Bargen
TRANSP:OPAQUE
SEQUENCE:0
UID:73733-veranstaltung@kirchenregion-aarberg.ch
DTSTAMP:20231221T081357Z
DESCRIPTION:Gemeinsam gut Essen und Neuigkeiten austauschen. Zeit zusammen
  verbringen und Kontakte pflegen. Zum Mittagstisch der Dorfhilfe Bargen
  sind unsere Seniorinnen und Senioren herzlich eingeladen.\n\nAnmeldung
  bis Samstag zuvor bei Beatrice Liechti\, 032 392 31 60\n\n\n\n\n
 \nKontakt: info.kg@kirche-bargen.ch\n\nWeitere Infos:
  https://www.kirchenregion-aarberg.ch/veranstaltung/73733
SUMMARY:Mittagstisch - Dorfhilfe Bargen
PRIORITY:5
X-MICROSOFT-CDO-IMPORTANCE:1
CLASS:PUBLIC
END:VEVENT
END:VCALENDAR
