BEGIN:VCALENDAR
PRODID:-//kirchenweb.ch gmbh//veranstaltungsausgabe v2.0//DE
VERSION:2.0
METHOD:PUBLISH
BEGIN:VEVENT
DTSTART:20240331T080000Z
DTEND:20240331T090000Z
LOCATION:Kirche\, \,
TRANSP:OPAQUE
SEQUENCE:0
UID:73532-veranstaltung@kirchenregion-aarberg.ch
DTSTAMP:20240212T160957Z
DESCRIPTION:Mit Abendmahl\n\nLiveübertragung:
  https://www.kirche-bargen.ch/zukunftskonferenz-bargen\n\n\n\n\nKontakt:
  Simon Taverna\n\nWeitere Infos:
  https://www.kirchenregion-aarberg.ch/veranstaltung/73532
SUMMARY:Ostergottesdienst
PRIORITY:5
X-MICROSOFT-CDO-IMPORTANCE:1
CLASS:PUBLIC
END:VEVENT
END:VCALENDAR
