BEGIN:VCALENDAR
PRODID:-//kirchenweb.ch gmbh//veranstaltungsausgabe v2.0//DE
VERSION:2.0
METHOD:PUBLISH
BEGIN:VEVENT
DTSTART:20240601T120000Z
DTEND:20240601T150000Z
LOCATION:EMK Aarberg\, Walperswilstrasse 1\, 3270 Aarberg
TRANSP:OPAQUE
SEQUENCE:0
UID:73522-veranstaltung@kirchenregion-aarberg.ch
DTSTAMP:20231212T154014Z
DESCRIPTION:Gemeinschaft erleben\, Spiel und Sport in der freien Natur\,
  besinnliche Momente und Lebensfragen - all das und noch viel mehr ist die
  Jungschar Arura. Was du dazu brauchst? Kleider\, die dreckig werden
  dürfen und wenn möglich dein Velo. Für alle Kinder ab der 1. Klasse. 
 \n\nInteressiert? Weitere Informationen findest du auf der Webseite der
  http://jsarura.jemk.ch oder einfach bei Dina Leiser\,
  jungschar.arura@gmx.ch\, melden. Wir freuen uns auf dich!\n\n\n\n\n
 \nKontakt: info.kg@kirche-bargen.ch\n\nWeitere Infos:
  https://www.kirchenregion-aarberg.ch/veranstaltung/73522
SUMMARY:Jungschar Arura
PRIORITY:5
X-MICROSOFT-CDO-IMPORTANCE:1
CLASS:PUBLIC
END:VEVENT
END:VCALENDAR
