BEGIN:VCALENDAR
PRODID:-//kirchenweb.ch gmbh//veranstaltungsausgabe v2.0//DE
VERSION:2.0
METHOD:PUBLISH
BEGIN:VEVENT
DTSTART:20240601T073000Z
DTEND:20240601T090000Z
LOCATION:Kirche\, Kirchrain 9\, 3282 Bargen
TRANSP:OPAQUE
SEQUENCE:0
UID:69796-veranstaltung@kirchenregion-aarberg.ch
DTSTAMP:20231024T093030Z
DESCRIPTION:Hauptprobe Konfirmation Gruppe 2\n\nKontakt\nSimon Taverna
 \nsimon.taverna@kirche-aarberg.ch\n079 875 71 61\n\n\n\n\nKontakt:
  info.kg@kirche-bargen.ch\n\nWeitere Infos:
  https://www.kirchenregion-aarberg.ch/veranstaltung/69796
SUMMARY:KUW 9. Klasse\, Hauptprobe Konfirmation Gruppe 2
PRIORITY:5
X-MICROSOFT-CDO-IMPORTANCE:1
CLASS:PUBLIC
END:VEVENT
END:VCALENDAR
