BEGIN:VCALENDAR
PRODID:-//kirchenweb.ch gmbh//veranstaltungsausgabe v2.0//DE
VERSION:2.0
METHOD:PUBLISH
BEGIN:VEVENT
DTSTART:20240403T120000Z
DTEND:20240403T141500Z
LOCATION:Kirchgemeindesaal\, Kirchrain 5a\, 3282 Bargen
TRANSP:OPAQUE
SEQUENCE:0
UID:69782-veranstaltung@kirchenregion-aarberg.ch
DTSTAMP:20240315T191449Z
DESCRIPTION:KUW-Unterricht\n\nIn der 3. und 4. Klasse lernen wir die Bibel
  kennen "(Mit) Jesus feiern."\n\nKontakt\nSimon Taverna
 \nsimon.taverna@kirche-aarberg.ch\n079 875 71 61\n\n\n\n\n\n\nKontakt:
  info.kg@kirche-bargen.ch\n\nWeitere Infos:
  https://www.kirchenregion-aarberg.ch/veranstaltung/69782
SUMMARY:KUW 4. Klasse
PRIORITY:5
X-MICROSOFT-CDO-IMPORTANCE:1
CLASS:PUBLIC
END:VEVENT
END:VCALENDAR
