BEGIN:VCALENDAR
PRODID:-//kirchenweb.ch gmbh//veranstaltungsausgabe v2.0//DE
VERSION:2.0
METHOD:PUBLISH
BEGIN:VEVENT
DTSTART:20240601T220100Z
DTEND:20240602T070000Z
LOCATION:\, \,
TRANSP:OPAQUE
SEQUENCE:0
UID:68474-veranstaltung@kirchenregion-aarberg.ch
DTSTAMP:20230601T070415Z
DESCRIPTION:Kursbeschreibung\nEs gibt nicht viele Frauen in der Bibel.
  Aber wenn eine Frau vorkommt\, dann ist sie meist eine starke und
  wichtige Person\, die etwas verändert. Und das\, obwohl sie oft keine
  einfachen Grundvoraussetzungen hat. Von diesen starken Frauen wollen wir
  lernen und herausfinden\, was uns selbst zu starken Frauen macht. Und
  natürlich gehört zu einer guten Ladung «Girl Power» auch Spass
  dazu…\n\nKurs à 2x2 Lektionen und 1x24 Stunden\n\nLeitung\nPfarrerin
  Lea Dürig\n\nKontakt\nPfarrerin Lea Dürig\nKirchweg 4\, 3271
  Radelfingen\n076 535 60 25\, lea.duerig@kirche-radelfingen.ch\n
 \nKursdaten 2023/2024\nDienstag\, 21.5.2024\, 18.00 bis 19.30 Uhr
 \nDienstag\, 28.5.2024\, 18.00 bis 19.30 Uhr\nSamstag\, 1.6.2024\, 9.00
  Uhr\, bis Sonntag\, 2.6.2024\, 9.00 Uhr (mit Übernachtung)\n\nKursort
 \nKirchgemeindesaal\, Pfrundscheune Radelfingen\, Kirchweg 4a\, 3271
  Radelfingen\n\nKosten\nCHF 20.00 pro Person. Die Kurskosten decken die
  Unkosten der Mahlzeiten und weitere Aufwände. Bitte bring den Beitrag am
  ersten Kurstag mit. Teile bei der Anmeldung mit\, falls du Allergien oder
  oder eine spezielle Diät hast.\n\nMitnehmen\nBitte bring deine Bibel
  mit. Wir übernachten vom 1. auf den 2. Juni 2024 in der Kirche
  Radelfingen\, bringt also Mätteli\, Schlafsack und alles\, was du sonst
  noch zum Übernachten brauchst\, mit.\n\nSpezielles\nDieser Kurs ist nur
  für Mädchen der 7. und 8. Klasse. Er gilt als zwei Wahlkurse.\n\n\n\n\n
 \nKontakt: info.k@kirchekallnach.ch\n\nWeitere Infos:
  https://www.kirchenregion-aarberg.ch/veranstaltung/68474
SUMMARY:Wahlkurs: Girl Power!
PRIORITY:5
X-MICROSOFT-CDO-IMPORTANCE:1
CLASS:PUBLIC
END:VEVENT
END:VCALENDAR
